BEGIN:VCALENDAR
VERSION:2.0
PRODID:-//Formazione Sicurezza sul Lavoro - ECPv6.15.20//NONSGML v1.0//EN
CALSCALE:GREGORIAN
METHOD:PUBLISH
X-WR-CALNAME:Formazione Sicurezza sul Lavoro
X-ORIGINAL-URL:https://formazionesicurezzasullavoro.it
X-WR-CALDESC:Eventi per Formazione Sicurezza sul Lavoro
REFRESH-INTERVAL;VALUE=DURATION:PT1H
X-Robots-Tag:noindex
X-PUBLISHED-TTL:PT1H
BEGIN:VTIMEZONE
TZID:UTC
BEGIN:STANDARD
TZOFFSETFROM:+0000
TZOFFSETTO:+0000
TZNAME:UTC
DTSTART:20250101T000000
END:STANDARD
END:VTIMEZONE
BEGIN:VEVENT
DTSTART;TZID=UTC:20260407T080000
DTEND;TZID=UTC:20260408T120000
DTSTAMP:20260420T220138
CREATED:20251001T091715Z
LAST-MODIFIED:20260410T060206Z
UID:1434-1775548800-1775649600@formazionesicurezzasullavoro.it
SUMMARY:Corso di formazione teorico/pratico per operatori addetti alla conduzione di gru per autocarro
DESCRIPTION:Durata corso: 12 ore \n8.00-12.00 \n13.00-17.00 \n8.00-12.00
URL:https://formazionesicurezzasullavoro.it/event/corso-di-formazione-teorico-pratico-per-operatori-addetti-alla-conduzione-di-gru-per-autocarro-2/
CATEGORIES:Addestramento,Formazione
END:VEVENT
BEGIN:VEVENT
DTSTART;TZID=UTC:20260408T130000
DTEND;TZID=UTC:20260408T170000
DTSTAMP:20260420T220138
CREATED:20251203T064612Z
LAST-MODIFIED:20260410T060457Z
UID:1485-1775653200-1775667600@formazionesicurezzasullavoro.it
SUMMARY:Corso di Aggiornamento addetti e preposti montaggio e smontaggio e trasformazione ponteggi
DESCRIPTION:Durata corso: 4 ore \n13.00-17.00
URL:https://formazionesicurezzasullavoro.it/event/corso-di-aggiornamento-addetti-e-preposti-montaggio-e-smontaggio-e-trasformazione-ponteggi-2/
LOCATION:Roma\, Via Francesco Antolisei\, 6\, Roma\, 00173\, Italy
CATEGORIES:Addestramento,Formazione
END:VEVENT
END:VCALENDAR