BEGIN:VCALENDAR
VERSION:2.0
PRODID:-//Formazione Sicurezza sul Lavoro - ECPv6.15.20//NONSGML v1.0//EN
CALSCALE:GREGORIAN
METHOD:PUBLISH
X-ORIGINAL-URL:https://formazionesicurezzasullavoro.it
X-WR-CALDESC:Eventi per Formazione Sicurezza sul Lavoro
REFRESH-INTERVAL;VALUE=DURATION:PT1H
X-Robots-Tag:noindex
X-PUBLISHED-TTL:PT1H
BEGIN:VTIMEZONE
TZID:UTC
BEGIN:STANDARD
TZOFFSETFROM:+0000
TZOFFSETTO:+0000
TZNAME:UTC
DTSTART:20250101T000000
END:STANDARD
END:VTIMEZONE
BEGIN:VEVENT
DTSTART;TZID=UTC:20260107T080000
DTEND;TZID=UTC:20260107T170000
DTSTAMP:20260421T011550
CREATED:20250917T080052Z
LAST-MODIFIED:20260115T154938Z
UID:1383-1767772800-1767805200@formazionesicurezzasullavoro.it
SUMMARY:DPI DI III CATEGORIA
DESCRIPTION:Durata corso: 8 ore \n8.00-12.00 \n13.00-17.00
URL:https://formazionesicurezzasullavoro.it/event/corso-per-dpi-di-iii-categoria/
LOCATION:Roma\, Via Francesco Antolisei\, 6\, Roma\, 00173\, Italy
CATEGORIES:Addestramento,Formazione
END:VEVENT
BEGIN:VEVENT
DTSTART;TZID=UTC:20260112T080000
DTEND;TZID=UTC:20260113T120000
DTSTAMP:20260421T011550
CREATED:20251001T084555Z
LAST-MODIFIED:20260115T155658Z
UID:1413-1768204800-1768305600@formazionesicurezzasullavoro.it
SUMMARY:Corso di formazione teorico/pratico per operatori addetti alla conduzione di carrelli industriali
DESCRIPTION:Durata corso: 12 ore \n8.00-12.00 \n13.00-17.00 \n8.00-12.00
URL:https://formazionesicurezzasullavoro.it/event/corso-di-formazione-teorico-pratico-per-operatori-addetti-alla-conduzione-di-carrelli-industriali/
LOCATION:Roma\, Via Francesco Antolisei\, 6\, Roma\, 00173\, Italy
CATEGORIES:Addestramento,Formazione
END:VEVENT
BEGIN:VEVENT
DTSTART;TZID=UTC:20260113T130000
DTEND;TZID=UTC:20260114T170000
DTSTAMP:20260421T011550
CREATED:20251001T085900Z
LAST-MODIFIED:20260115T155810Z
UID:1415-1768309200-1768410000@formazionesicurezzasullavoro.it
SUMMARY:Corso di formazione TEORICO/PRATICO per Operatori Addetti alla conduzione di piattaforme di lavoro mobili elevabili (PLE) con stabilizzatori e senza stabilizzatori
DESCRIPTION:Durata corso: 12 ore \n13.00-17.00 \n8.00-12.00 \n13.00-17.00
URL:https://formazionesicurezzasullavoro.it/event/corso-di-formazione-teorico-pratico-per-operatori-addetti-alla-conduzione-di-piattaforme-di-lavoro-mobili-elevabili-ple-con-stabilizzatori-e-senza-stabilizzatori/
LOCATION:Roma\, Via Francesco Antolisei\, 6\, Roma\, 00173\, Italy
CATEGORIES:Addestramento,Formazione
END:VEVENT
BEGIN:VEVENT
DTSTART;TZID=UTC:20260114T080000
DTEND;TZID=UTC:20260115T120000
DTSTAMP:20260421T011550
CREATED:20251001T090332Z
LAST-MODIFIED:20260115T155903Z
UID:1419-1768377600-1768478400@formazionesicurezzasullavoro.it
SUMMARY:Corso di formazione teorico/pratico per operatori addetti alla conduzione di gru per autocarro
DESCRIPTION:Durata corso: 12 ore \n8.00-12.00 \n13.00-17.00 \n8.00-12.00
URL:https://formazionesicurezzasullavoro.it/event/corso-di-formazione-teorico-pratico-per-operatori-addetti-alla-conduzione-di-gru-per-autocarro/
LOCATION:Roma\, Via Francesco Antolisei\, 6\, Roma\, 00173\, Italy
CATEGORIES:Addestramento,Formazione
END:VEVENT
BEGIN:VEVENT
DTSTART;TZID=UTC:20260120T080000
DTEND;TZID=UTC:20260121T170000
DTSTAMP:20260421T011550
CREATED:20251029T113410Z
LAST-MODIFIED:20260115T161252Z
UID:1465-1768896000-1769014800@formazionesicurezzasullavoro.it
SUMMARY:Corso di formazione per Addetto al Primo Soccorso (Gruppo A)
DESCRIPTION:Durata corso: 16 ore \n8.00-12.00 \n13.00-17.00
URL:https://formazionesicurezzasullavoro.it/event/corso-di-formazione-per-addetto-al-primo-soccorso-gruppo-a/
CATEGORIES:Addestramento,Formazione,Soccorso
END:VEVENT
BEGIN:VEVENT
DTSTART;TZID=UTC:20260121T080000
DTEND;TZID=UTC:20260122T170000
DTSTAMP:20260421T011550
CREATED:20251203T064811Z
LAST-MODIFIED:20260115T161406Z
UID:1489-1768982400-1769101200@formazionesicurezzasullavoro.it
SUMMARY:CORSO DI FORMAZIONE PER ADDETTI AI LAVORI ELETTRICI: CEI 11-27 PES [PERSONA ESPERTA] - PAV [PERSONA AVVERTITA]\, PEI [PERSONA IDONEA]
DESCRIPTION:Durata corso: 16 ore \n8.00-12.00 \n13.00-17.00
URL:https://formazionesicurezzasullavoro.it/event/corso-di-formazione-per-addetti-ai-lavori-elettrici-cei-11-27-pes-persona-esperta-pav-persona-avvertita-pei-persona-idonea-2/
LOCATION:Roma\, Via Francesco Antolisei\, 6\, Roma\, 00173\, Italy
CATEGORIES:Addestramento,Formazione
END:VEVENT
BEGIN:VEVENT
DTSTART;TZID=UTC:20260122T080000
DTEND;TZID=UTC:20260123T170000
DTSTAMP:20260421T011550
CREATED:20251203T065619Z
LAST-MODIFIED:20260115T161616Z
UID:1501-1769068800-1769187600@formazionesicurezzasullavoro.it
SUMMARY:Corso di formazione e addestramento per Addetti al Montaggio dei Ponteggi Autosollevanti
DESCRIPTION:Durata corso: 16 ore \n8.00-12.00 \n13.00-17.00
URL:https://formazionesicurezzasullavoro.it/event/corso-di-formazione-e-addestramento-per-addetti-al-montaggio-dei-ponteggi-autosollevanti-2/
CATEGORIES:Addestramento,Formazione
END:VEVENT
BEGIN:VEVENT
DTSTART;TZID=UTC:20260123T080000
DTEND;TZID=UTC:20260124T120000
DTSTAMP:20260421T011550
CREATED:20251203T064958Z
LAST-MODIFIED:20260115T161651Z
UID:1493-1769155200-1769256000@formazionesicurezzasullavoro.it
SUMMARY:CORSO DI INFORMAZIONE\, FORMAZIONE E ADDESTRAMENTO PER ADDETTI AI LAVORI IN QUOTA E UTILIZZO DI DPI DI TERZA CATEGORIA
DESCRIPTION:Durata corso: 12 ore \n8.00-12.00 \n13.00-17.00 \n8.00-12.00
URL:https://formazionesicurezzasullavoro.it/event/corso-di-informazione-formazione-e-addestramento-per-addetti-ai-lavori-in-quota-e-utilizzo-di-dpi-di-terza-categoria-2/
LOCATION:Roma\, Via Francesco Antolisei\, 6\, Roma\, 00173\, Italy
CATEGORIES:Addestramento,Formazione
END:VEVENT
END:VCALENDAR