BEGIN:VCALENDAR
VERSION:2.0
PRODID:-//Formazione Sicurezza sul Lavoro - ECPv6.15.20//NONSGML v1.0//EN
CALSCALE:GREGORIAN
METHOD:PUBLISH
X-WR-CALNAME:Formazione Sicurezza sul Lavoro
X-ORIGINAL-URL:https://formazionesicurezzasullavoro.it
X-WR-CALDESC:Eventi per Formazione Sicurezza sul Lavoro
REFRESH-INTERVAL;VALUE=DURATION:PT1H
X-Robots-Tag:noindex
X-PUBLISHED-TTL:PT1H
BEGIN:VTIMEZONE
TZID:UTC
BEGIN:STANDARD
TZOFFSETFROM:+0000
TZOFFSETTO:+0000
TZNAME:UTC
DTSTART:20250101T000000
END:STANDARD
END:VTIMEZONE
BEGIN:VEVENT
DTSTART;TZID=UTC:20260302T080000
DTEND;TZID=UTC:20260302T120000
DTSTAMP:20260420T135715
CREATED:20260228T063148Z
LAST-MODIFIED:20260228T063148Z
UID:1524-1772438400-1772452800@formazionesicurezzasullavoro.it
SUMMARY:Corso di Aggiornamento addetti e preposti montaggio e smontaggio e trasformazione ponteggi
DESCRIPTION:Durata corso: 4 ore \n8.00-12.00
URL:https://formazionesicurezzasullavoro.it/event/corso-di-aggiornamento-addetti-e-preposti-montaggio-e-smontaggio-e-trasformazione-ponteggi-3/
LOCATION:Roma\, Via Francesco Antolisei\, 6\, Roma\, 00173\, Italy
CATEGORIES:Addestramento,Formazione
END:VEVENT
BEGIN:VEVENT
DTSTART;TZID=UTC:20260303T080000
DTEND;TZID=UTC:20260304T170000
DTSTAMP:20260420T135715
CREATED:20260228T063845Z
LAST-MODIFIED:20260228T063845Z
UID:1531-1772524800-1772643600@formazionesicurezzasullavoro.it
SUMMARY:Corso di formazione per Addetto al Primo Soccorso (Gruppo A)
DESCRIPTION:Durata corso: 16 ore \n8.00-12.00 \n13.00-17.00
URL:https://formazionesicurezzasullavoro.it/event/corso-di-formazione-per-addetto-al-primo-soccorso-gruppo-a-2/
CATEGORIES:Addestramento,Formazione,Soccorso
END:VEVENT
BEGIN:VEVENT
DTSTART;TZID=UTC:20260303T080000
DTEND;TZID=UTC:20260306T160000
DTSTAMP:20260420T135715
CREATED:20260228T063522Z
LAST-MODIFIED:20260228T063522Z
UID:1527-1772524800-1772812800@formazionesicurezzasullavoro.it
SUMMARY:CORSO DI FORMAZIONE TEORICO E PRATICO PER LAVORATORI E PREPOSTI ADDETTI AL MONTAGGIO\, SMONTAGGIO. TRASFORMAZIONE DI PONTEGGI
DESCRIPTION:Durata corso: 28 ore \n8.00-12.00 \n13.00-16.00
URL:https://formazionesicurezzasullavoro.it/event/corso-di-formazione-teorico-e-pratico-per-lavoratori-e-preposti-addetti-al-montaggio-smontaggio-trasformazione-di-ponteggi/
LOCATION:Roma\, Via Francesco Antolisei\, 6\, Roma\, 00173\, Italy
CATEGORIES:Addestramento,Formazione
END:VEVENT
BEGIN:VEVENT
DTSTART;TZID=UTC:20260306T080000
DTEND;TZID=UTC:20260306T170000
DTSTAMP:20260420T135715
CREATED:20260228T063704Z
LAST-MODIFIED:20260228T063704Z
UID:1529-1772784000-1772816400@formazionesicurezzasullavoro.it
SUMMARY:Corso di aggiornamento RLS per imprese che occupano oltre i 50 lavoratori
DESCRIPTION:Durata corso: 8 ore \n8.00-12.00 \n13.00-17.00
URL:https://formazionesicurezzasullavoro.it/event/corso-di-aggiornamento-rls-per-imprese-che-occupano-oltre-i-50-lavoratori-2/
LOCATION:Roma\, Via Francesco Antolisei\, 6\, Roma\, 00173\, Italy
CATEGORIES:Formazione
END:VEVENT
BEGIN:VEVENT
DTSTART;TZID=UTC:20260309T080000
DTEND;TZID=UTC:20260310T120000
DTSTAMP:20260420T135715
CREATED:20260228T064147Z
LAST-MODIFIED:20260228T064147Z
UID:1533-1773043200-1773144000@formazionesicurezzasullavoro.it
SUMMARY:CORSO DI INFORMAZIONE\, FORMAZIONE E ADDESTRAMENTO PER ADDETTI AI LAVORI IN QUOTA E UTILIZZO DI DPI DI TERZA CATEGORIA
DESCRIPTION:Durata corso: 12 ore \n8.00-12.00 \n13.00-17.00 \n8.00-12.00
URL:https://formazionesicurezzasullavoro.it/event/corso-di-informazione-formazione-e-addestramento-per-addetti-ai-lavori-in-quota-e-utilizzo-di-dpi-di-terza-categoria-3/
LOCATION:Roma\, Via Francesco Antolisei\, 6\, Roma\, 00173\, Italy
CATEGORIES:Addestramento,Formazione
END:VEVENT
BEGIN:VEVENT
DTSTART;TZID=UTC:20260312T080000
DTEND;TZID=UTC:20260312T150000
DTSTAMP:20260420T135715
CREATED:20260228T064620Z
LAST-MODIFIED:20260228T064620Z
UID:1537-1773302400-1773327600@formazionesicurezzasullavoro.it
SUMMARY:Corso di Aggiornamento Formazione dei Lavoratori - Settore di Rischio Alto
DESCRIPTION:Durata corso: 6 ore\n8.00-12.00\n13.00-15.00
URL:https://formazionesicurezzasullavoro.it/event/corso-di-aggiornamento-formazione-dei-lavoratori-settore-di-rischio-alto/
CATEGORIES:Formazione
END:VEVENT
BEGIN:VEVENT
DTSTART;TZID=UTC:20260313T080000
DTEND;TZID=UTC:20260313T120000
DTSTAMP:20260420T135715
CREATED:20260228T064921Z
LAST-MODIFIED:20260228T064921Z
UID:1540-1773388800-1773403200@formazionesicurezzasullavoro.it
SUMMARY:Aggiornamento Corso di formazione e addestramento per attività lavorative in ambienti sospetti di inquinamento o confinati
DESCRIPTION:Durata corso: 4 ore\n8.00-12.00
URL:https://formazionesicurezzasullavoro.it/event/aggiornamento-corso-di-formazione-e-addestramento-per-attivita-lavorative-in-ambienti-sospetti-di-inquinamento-o-confinati/
CATEGORIES:Addestramento,Formazione
END:VEVENT
BEGIN:VEVENT
DTSTART;TZID=UTC:20260313T130000
DTEND;TZID=UTC:20260313T170000
DTSTAMP:20260420T135715
CREATED:20260228T065145Z
LAST-MODIFIED:20260228T065145Z
UID:1542-1773406800-1773421200@formazionesicurezzasullavoro.it
SUMMARY:AGGIORNAMENTO CORSO DI FORMAZIONE PER ADDETTI AI LAVORI ELETTRICI: CEI 11-27 PES [PERSONA ESPERTA] - PAV [PERSONA AVVERTITA]\, PEI [PERSONA IDONEA]
DESCRIPTION:Durata corso: 4 ore\n13.00-17.00
URL:https://formazionesicurezzasullavoro.it/event/aggiornamento-corso-di-formazione-per-addetti-ai-lavori-elettrici-cei-11-27-pes-persona-esperta-pav-persona-avvertita-pei-persona-idonea/
CATEGORIES:Addestramento,Formazione
END:VEVENT
BEGIN:VEVENT
DTSTART;TZID=UTC:20260316T080000
DTEND;TZID=UTC:20260317T120000
DTSTAMP:20260420T135715
CREATED:20251029T111627Z
LAST-MODIFIED:20260228T065431Z
UID:1451-1773648000-1773748800@formazionesicurezzasullavoro.it
SUMMARY:Corso di formazione TEORICO/PRATICO per Operatori Addetti alla conduzione di piattaforme di lavoro mobili elevabili (PLE) con stabilizzatori e senza stabilizzatori
DESCRIPTION:Durata corso: 12 ore \n8.00-12.00 \n13.00-17.00 \n8.00-12.00
URL:https://formazionesicurezzasullavoro.it/event/corso-di-formazione-teorico-pratico-per-operatori-addetti-alla-conduzione-di-piattaforme-di-lavoro-mobili-elevabili-ple-con-stabilizzatori-e-senza-stabilizzatori-2/
CATEGORIES:Addestramento,Formazione
END:VEVENT
BEGIN:VEVENT
DTSTART;TZID=UTC:20260317T130000
DTEND;TZID=UTC:20260317T170000
DTSTAMP:20260420T135715
CREATED:20260228T070125Z
LAST-MODIFIED:20260228T070125Z
UID:1545-1773752400-1773766800@formazionesicurezzasullavoro.it
SUMMARY:Corso di aggiornamento TEORICO/PRATICO per operatori addetti alla conduzione di Piattaforme di Lavoro mobili Elevabili (PLE) con stabilizzatori e senza stabilizzatori
DESCRIPTION:Durata corso: 4 ore \n13.00-17.00
URL:https://formazionesicurezzasullavoro.it/event/corso-di-aggiornamento-teorico-pratico-per-operatori-addetti-alla-conduzione-di-piattaforme-di-lavoro-mobili-elevabili-ple-con-stabilizzatori-e-senza-stabilizzatori-2/
LOCATION:Roma\, Via Francesco Antolisei\, 6\, Roma\, 00173\, Italy
CATEGORIES:Addestramento,Formazione
END:VEVENT
BEGIN:VEVENT
DTSTART;TZID=UTC:20260318T130000
DTEND;TZID=UTC:20260319T170000
DTSTAMP:20260420T135715
CREATED:20260228T070218Z
LAST-MODIFIED:20260228T070433Z
UID:1547-1773838800-1773939600@formazionesicurezzasullavoro.it
SUMMARY:CORSO DI INFORMAZIONE\, FORMAZIONE E ADDESTRAMENTO PER ADDETTI AI LAVORI IN QUOTA E UTILIZZO DI DPI DI TERZA CATEGORIA
DESCRIPTION:Durata corso: 12 ore \n8.00-12.00 \n13.00-17.00 \n8.00-12.00
URL:https://formazionesicurezzasullavoro.it/event/corso-di-informazione-formazione-e-addestramento-per-addetti-ai-lavori-in-quota-e-utilizzo-di-dpi-di-terza-categoria-5/
LOCATION:Roma\, Via Francesco Antolisei\, 6\, Roma\, 00173\, Italy
CATEGORIES:Addestramento,Formazione
END:VEVENT
BEGIN:VEVENT
DTSTART;TZID=UTC:20260319T130000
DTEND;TZID=UTC:20260319T170000
DTSTAMP:20260420T135715
CREATED:20260228T070347Z
LAST-MODIFIED:20260228T070405Z
UID:1549-1773925200-1773939600@formazionesicurezzasullavoro.it
SUMMARY:CORSO DI INFORMAZIONE\, FORMAZIONE E ADDESTRAMENTO PER ADDETTI AI LAVORI IN QUOTA E UTILIZZO DI DPI DI TERZA CATEGORIA
DESCRIPTION:Durata corso: 4 ore \n13.00-17.00
URL:https://formazionesicurezzasullavoro.it/event/corso-di-informazione-formazione-e-addestramento-per-addetti-ai-lavori-in-quota-e-utilizzo-di-dpi-di-terza-categoria-6/
LOCATION:Roma\, Via Francesco Antolisei\, 6\, Roma\, 00173\, Italy
CATEGORIES:Addestramento,Formazione
END:VEVENT
BEGIN:VEVENT
DTSTART;TZID=UTC:20260320T080000
DTEND;TZID=UTC:20260320T170000
DTSTAMP:20260420T135715
CREATED:20260228T070538Z
LAST-MODIFIED:20260228T070538Z
UID:1552-1773993600-1774026000@formazionesicurezzasullavoro.it
SUMMARY:Corso di Formazione per Preposto
DESCRIPTION:Durata corso: 8 ore \n8.00-12.00 \n13.00-17.00
URL:https://formazionesicurezzasullavoro.it/event/corso-di-formazione-per-preposto-3/
LOCATION:Roma\, Via Francesco Antolisei\, 6\, Roma\, 00173\, Italy
CATEGORIES:Formazione
END:VEVENT
BEGIN:VEVENT
DTSTART;TZID=UTC:20260323T080000
DTEND;TZID=UTC:20260323T170000
DTSTAMP:20260420T135715
CREATED:20260228T070617Z
LAST-MODIFIED:20260228T070617Z
UID:1554-1774252800-1774285200@formazionesicurezzasullavoro.it
SUMMARY:Corso di formazione per addetti antincendio in attività di Liv 2 (rischio medio)
DESCRIPTION:Durata corso: 8 ore \n8.00-12.00 \n13.00-17.00
URL:https://formazionesicurezzasullavoro.it/event/corso-di-formazione-per-addetti-antincendio-in-attivita-di-liv-2-rischio-medio-3/
LOCATION:Roma\, Via Francesco Antolisei\, 6\, Roma\, 00173\, Italy
CATEGORIES:Addestramento,Antincendio,Formazione
END:VEVENT
BEGIN:VEVENT
DTSTART;TZID=UTC:20260324T080000
DTEND;TZID=UTC:20260325T170000
DTSTAMP:20260420T135715
CREATED:20260228T070705Z
LAST-MODIFIED:20260228T070705Z
UID:1556-1774339200-1774458000@formazionesicurezzasullavoro.it
SUMMARY:Corso di formazione per Datore di Lavoro
DESCRIPTION:Durata corso: 16 ore \n8.00-12.00 \n13.00-17.00
URL:https://formazionesicurezzasullavoro.it/event/corso-di-formazione-per-datore-di-lavoro-2/
LOCATION:Roma\, Via Francesco Antolisei\, 6\, Roma\, 00173\, Italy
CATEGORIES:Formazione
END:VEVENT
BEGIN:VEVENT
DTSTART;TZID=UTC:20260326T080000
DTEND;TZID=UTC:20260326T150000
DTSTAMP:20260420T135715
CREATED:20260228T070932Z
LAST-MODIFIED:20260228T070932Z
UID:1558-1774512000-1774537200@formazionesicurezzasullavoro.it
SUMMARY:CORSO MODULO AGGIUNTIVO "CANTIERI" PER DATORE DI LAVORO
DESCRIPTION:Durata corso: 6 ore\n8.00-12.00\n13.00-15.00
URL:https://formazionesicurezzasullavoro.it/event/corso-modulo-aggiuntivo-cantieri-per-datore-di-lavoro/
CATEGORIES:Formazione
END:VEVENT
BEGIN:VEVENT
DTSTART;TZID=UTC:20260327T080000
DTEND;TZID=UTC:20260327T170000
DTSTAMP:20260420T135715
CREATED:20260228T070959Z
LAST-MODIFIED:20260228T070959Z
UID:1560-1774598400-1774630800@formazionesicurezzasullavoro.it
SUMMARY:Corso di formazione per addetti antincendio in attività di Liv 2 (rischio medio)
DESCRIPTION:Durata corso: 8 ore \n8.00-12.00 \n13.00-17.00
URL:https://formazionesicurezzasullavoro.it/event/corso-di-formazione-per-addetti-antincendio-in-attivita-di-liv-2-rischio-medio-4/
LOCATION:Roma\, Via Francesco Antolisei\, 6\, Roma\, 00173\, Italy
CATEGORIES:Addestramento,Antincendio,Formazione
END:VEVENT
BEGIN:VEVENT
DTSTART;TZID=UTC:20260330T080000
DTEND;TZID=UTC:20260331T170000
DTSTAMP:20260420T135715
CREATED:20260228T071142Z
LAST-MODIFIED:20260228T072337Z
UID:1562-1774857600-1774976400@formazionesicurezzasullavoro.it
SUMMARY:Corso di formazione e addestramento per Addetti al Montaggio dei Ponteggi Autosollevanti
DESCRIPTION:Durata corso: 16 ore \n8.00-12.00 \n13.00-17.00
URL:https://formazionesicurezzasullavoro.it/event/corso-di-formazione-e-addestramento-per-addetti-al-montaggio-dei-ponteggi-autosollevanti-3/
CATEGORIES:Addestramento,Formazione
END:VEVENT
END:VCALENDAR