BEGIN:VCALENDAR
VERSION:2.0
PRODID:-//Formazione Sicurezza sul Lavoro - ECPv6.15.20//NONSGML v1.0//EN
CALSCALE:GREGORIAN
METHOD:PUBLISH
X-WR-CALNAME:Formazione Sicurezza sul Lavoro
X-ORIGINAL-URL:https://formazionesicurezzasullavoro.it
X-WR-CALDESC:Eventi per Formazione Sicurezza sul Lavoro
REFRESH-INTERVAL;VALUE=DURATION:PT1H
X-Robots-Tag:noindex
X-PUBLISHED-TTL:PT1H
BEGIN:VTIMEZONE
TZID:UTC
BEGIN:STANDARD
TZOFFSETFROM:+0000
TZOFFSETTO:+0000
TZNAME:UTC
DTSTART:20250101T000000
END:STANDARD
END:VTIMEZONE
BEGIN:VEVENT
DTSTART;TZID=UTC:20260313T080000
DTEND;TZID=UTC:20260313T120000
DTSTAMP:20260421T000143
CREATED:20260228T064921Z
LAST-MODIFIED:20260228T064921Z
UID:1540-1773388800-1773403200@formazionesicurezzasullavoro.it
SUMMARY:Aggiornamento Corso di formazione e addestramento per attività lavorative in ambienti sospetti di inquinamento o confinati
DESCRIPTION:Durata corso: 4 ore\n8.00-12.00
URL:https://formazionesicurezzasullavoro.it/event/aggiornamento-corso-di-formazione-e-addestramento-per-attivita-lavorative-in-ambienti-sospetti-di-inquinamento-o-confinati/
CATEGORIES:Addestramento,Formazione
END:VEVENT
BEGIN:VEVENT
DTSTART;TZID=UTC:20260313T130000
DTEND;TZID=UTC:20260313T170000
DTSTAMP:20260421T000143
CREATED:20260228T065145Z
LAST-MODIFIED:20260228T065145Z
UID:1542-1773406800-1773421200@formazionesicurezzasullavoro.it
SUMMARY:AGGIORNAMENTO CORSO DI FORMAZIONE PER ADDETTI AI LAVORI ELETTRICI: CEI 11-27 PES [PERSONA ESPERTA] - PAV [PERSONA AVVERTITA]\, PEI [PERSONA IDONEA]
DESCRIPTION:Durata corso: 4 ore\n13.00-17.00
URL:https://formazionesicurezzasullavoro.it/event/aggiornamento-corso-di-formazione-per-addetti-ai-lavori-elettrici-cei-11-27-pes-persona-esperta-pav-persona-avvertita-pei-persona-idonea/
CATEGORIES:Addestramento,Formazione
END:VEVENT
END:VCALENDAR