BEGIN:VCALENDAR
VERSION:2.0
PRODID:-//Formazione Sicurezza sul Lavoro - ECPv6.15.20//NONSGML v1.0//EN
CALSCALE:GREGORIAN
METHOD:PUBLISH
X-ORIGINAL-URL:https://formazionesicurezzasullavoro.it
X-WR-CALDESC:Eventi per Formazione Sicurezza sul Lavoro
REFRESH-INTERVAL;VALUE=DURATION:PT1H
X-Robots-Tag:noindex
X-PUBLISHED-TTL:PT1H
BEGIN:VTIMEZONE
TZID:UTC
BEGIN:STANDARD
TZOFFSETFROM:+0000
TZOFFSETTO:+0000
TZNAME:UTC
DTSTART:20250101T000000
END:STANDARD
END:VTIMEZONE
BEGIN:VEVENT
DTSTART;TZID=UTC:20260216T080000
DTEND;TZID=UTC:20260221T170000
DTSTAMP:20260421T013443
CREATED:20251029T113554Z
LAST-MODIFIED:20260210T071844Z
UID:1467-1771228800-1771693200@formazionesicurezzasullavoro.it
SUMMARY:CORSO DI FORMAZIONE PER DATORI DI LAVORO IN ASSUNZIONE DIRETTA DEL SERVIZIO DI PREVENZIONE E PROTEZIONE SETTORE RISCHIO ALTO
DESCRIPTION:Durata corso: 48 ore \n8.00-12.00 \n13.00-17.00
URL:https://formazionesicurezzasullavoro.it/event/corso-di-formazione-per-datori-di-lavoro-in-assunzione-diretta-del-servizio-di-prevenzione-e-protezione-settore-rischio-alto/
CATEGORIES:Formazione
END:VEVENT
BEGIN:VEVENT
DTSTART;TZID=UTC:20260219T080000
DTEND;TZID=UTC:20260219T170000
DTSTAMP:20260421T013443
CREATED:20251001T091529Z
LAST-MODIFIED:20260210T071954Z
UID:1432-1771488000-1771520400@formazionesicurezzasullavoro.it
SUMMARY:Corso di Formazione per Preposto
DESCRIPTION:Durata corso: 8 ore \n8.00-12.00 \n13.00-17.00
URL:https://formazionesicurezzasullavoro.it/event/corso-di-formazione-per-preposto/
LOCATION:Roma\, Via Francesco Antolisei\, 6\, Roma\, 00173\, Italy
CATEGORIES:Formazione
END:VEVENT
END:VCALENDAR