BEGIN:VCALENDAR
VERSION:2.0
PRODID:-//Formazione Sicurezza sul Lavoro - ECPv6.15.20//NONSGML v1.0//EN
CALSCALE:GREGORIAN
METHOD:PUBLISH
X-ORIGINAL-URL:https://formazionesicurezzasullavoro.it
X-WR-CALDESC:Eventi per Formazione Sicurezza sul Lavoro
REFRESH-INTERVAL;VALUE=DURATION:PT1H
X-Robots-Tag:noindex
X-PUBLISHED-TTL:PT1H
BEGIN:VTIMEZONE
TZID:UTC
BEGIN:STANDARD
TZOFFSETFROM:+0000
TZOFFSETTO:+0000
TZNAME:UTC
DTSTART:20250101T000000
END:STANDARD
END:VTIMEZONE
BEGIN:VEVENT
DTSTART;TZID=UTC:20260128T080000
DTEND;TZID=UTC:20260129T170000
DTSTAMP:20260421T013422
CREATED:20251029T111445Z
LAST-MODIFIED:20260115T162117Z
UID:1449-1769587200-1769706000@formazionesicurezzasullavoro.it
SUMMARY:Formazione per lavoratori settore di rischio alto
DESCRIPTION:Durata corso: 16 ore \n8.00-12.00 \n13.00-17.00
URL:https://formazionesicurezzasullavoro.it/event/formazione-per-lavoratori-settore-di-rischio-alto-3/
LOCATION:Roma\, Via Francesco Antolisei\, 6\, Roma\, 00173\, Italy
CATEGORIES:Formazione
END:VEVENT
END:VCALENDAR