BEGIN:VCALENDAR
VERSION:2.0
PRODID:-//Formazione Sicurezza sul Lavoro - ECPv6.15.20//NONSGML v1.0//EN
CALSCALE:GREGORIAN
METHOD:PUBLISH
X-WR-CALNAME:Formazione Sicurezza sul Lavoro
X-ORIGINAL-URL:https://formazionesicurezzasullavoro.it
X-WR-CALDESC:Eventi per Formazione Sicurezza sul Lavoro
REFRESH-INTERVAL;VALUE=DURATION:PT1H
X-Robots-Tag:noindex
X-PUBLISHED-TTL:PT1H
BEGIN:VTIMEZONE
TZID:UTC
BEGIN:STANDARD
TZOFFSETFROM:+0000
TZOFFSETTO:+0000
TZNAME:UTC
DTSTART:20250101T000000
END:STANDARD
END:VTIMEZONE
BEGIN:VEVENT
DTSTART;TZID=UTC:20260120T080000
DTEND;TZID=UTC:20260121T170000
DTSTAMP:20260421T060753
CREATED:20251029T113410Z
LAST-MODIFIED:20260115T161252Z
UID:1465-1768896000-1769014800@formazionesicurezzasullavoro.it
SUMMARY:Corso di formazione per Addetto al Primo Soccorso (Gruppo A)
DESCRIPTION:Durata corso: 16 ore \n8.00-12.00 \n13.00-17.00
URL:https://formazionesicurezzasullavoro.it/event/corso-di-formazione-per-addetto-al-primo-soccorso-gruppo-a/
CATEGORIES:Addestramento,Formazione,Soccorso
END:VEVENT
BEGIN:VEVENT
DTSTART;TZID=UTC:20260121T080000
DTEND;TZID=UTC:20260122T170000
DTSTAMP:20260421T060753
CREATED:20251203T064811Z
LAST-MODIFIED:20260115T161406Z
UID:1489-1768982400-1769101200@formazionesicurezzasullavoro.it
SUMMARY:CORSO DI FORMAZIONE PER ADDETTI AI LAVORI ELETTRICI: CEI 11-27 PES [PERSONA ESPERTA] - PAV [PERSONA AVVERTITA]\, PEI [PERSONA IDONEA]
DESCRIPTION:Durata corso: 16 ore \n8.00-12.00 \n13.00-17.00
URL:https://formazionesicurezzasullavoro.it/event/corso-di-formazione-per-addetti-ai-lavori-elettrici-cei-11-27-pes-persona-esperta-pav-persona-avvertita-pei-persona-idonea-2/
LOCATION:Roma\, Via Francesco Antolisei\, 6\, Roma\, 00173\, Italy
CATEGORIES:Addestramento,Formazione
END:VEVENT
END:VCALENDAR