BEGIN:VCALENDAR
VERSION:2.0
PRODID:-//Formazione Sicurezza sul Lavoro - ECPv6.15.20//NONSGML v1.0//EN
CALSCALE:GREGORIAN
METHOD:PUBLISH
X-ORIGINAL-URL:https://formazionesicurezzasullavoro.it
X-WR-CALDESC:Eventi per Formazione Sicurezza sul Lavoro
REFRESH-INTERVAL;VALUE=DURATION:PT1H
X-Robots-Tag:noindex
X-PUBLISHED-TTL:PT1H
BEGIN:VTIMEZONE
TZID:UTC
BEGIN:STANDARD
TZOFFSETFROM:+0000
TZOFFSETTO:+0000
TZNAME:UTC
DTSTART:20240101T000000
END:STANDARD
END:VTIMEZONE
BEGIN:VEVENT
DTSTART;TZID=UTC:20251128T080000
DTEND;TZID=UTC:20251129T170000
DTSTAMP:20260421T074616
CREATED:20251029T114635Z
LAST-MODIFIED:20251029T114635Z
UID:1477-1764316800-1764435600@formazionesicurezzasullavoro.it
SUMMARY:CORSO DI FORMAZIONE PER DATORI DI LAVORO IN ASSUNZIONE DIRETTA DEL SERVIZIO DI PREVENZIONE E PROTEZIONE (SETTORE RISCHIO BASSO)
DESCRIPTION:Durata corso: 16 ore \n8.00-12.00 \n13.00-17.00
URL:https://formazionesicurezzasullavoro.it/event/corso-di-formazione-per-datori-di-lavoro-in-assunzione-diretta-del-servizio-di-prevenzione-e-protezione-settore-rischio-basso/
LOCATION:Roma\, Via Francesco Antolisei\, 6\, Roma\, 00173\, Italy
CATEGORIES:Formazione
END:VEVENT
END:VCALENDAR