BEGIN:VCALENDAR
VERSION:2.0
PRODID:-//Formazione Sicurezza sul Lavoro - ECPv6.15.20//NONSGML v1.0//EN
CALSCALE:GREGORIAN
METHOD:PUBLISH
X-WR-CALNAME:Formazione Sicurezza sul Lavoro
X-ORIGINAL-URL:https://formazionesicurezzasullavoro.it
X-WR-CALDESC:Eventi per Formazione Sicurezza sul Lavoro
REFRESH-INTERVAL;VALUE=DURATION:PT1H
X-Robots-Tag:noindex
X-PUBLISHED-TTL:PT1H
BEGIN:VTIMEZONE
TZID:UTC
BEGIN:STANDARD
TZOFFSETFROM:+0000
TZOFFSETTO:+0000
TZNAME:UTC
DTSTART:20250101T000000
END:STANDARD
END:VTIMEZONE
BEGIN:VEVENT
DTSTART;TZID=UTC:20260214T080000
DTEND;TZID=UTC:20260216T120000
DTSTAMP:20260421T013316
CREATED:20251029T113007Z
LAST-MODIFIED:20260210T071653Z
UID:1461-1771056000-1771243200@formazionesicurezzasullavoro.it
SUMMARY:Corso di formazione teorico/pratico per operatori addetti alla conduzione di carrelli industriali
DESCRIPTION:Durata corso: 12 ore \n8.00-12.00 \n13.00-17.00 \n8.00-12.00
URL:https://formazionesicurezzasullavoro.it/event/corso-di-formazione-teorico-pratico-per-operatori-addetti-alla-conduzione-di-carrelli-industriali-2/
CATEGORIES:Addestramento,Formazione
END:VEVENT
END:VCALENDAR