BEGIN:VCALENDAR
VERSION:2.0
PRODID:-//Formazione Sicurezza sul Lavoro - ECPv6.15.20//NONSGML v1.0//EN
CALSCALE:GREGORIAN
METHOD:PUBLISH
X-ORIGINAL-URL:https://formazionesicurezzasullavoro.it
X-WR-CALDESC:Eventi per Formazione Sicurezza sul Lavoro
REFRESH-INTERVAL;VALUE=DURATION:PT1H
X-Robots-Tag:noindex
X-PUBLISHED-TTL:PT1H
BEGIN:VTIMEZONE
TZID:UTC
BEGIN:STANDARD
TZOFFSETFROM:+0000
TZOFFSETTO:+0000
TZNAME:UTC
DTSTART:20250101T000000
END:STANDARD
END:VTIMEZONE
BEGIN:VEVENT
DTSTART;TZID=UTC:20260209T080000
DTEND;TZID=UTC:20260210T120000
DTSTAMP:20260421T013448
CREATED:20251001T091417Z
LAST-MODIFIED:20260210T071226Z
UID:1430-1770624000-1770724800@formazionesicurezzasullavoro.it
SUMMARY:Corso di formazione TEORICO/PRATICO per lavoratori addetti alla conduzione di gru a torre con rotazione in alto
DESCRIPTION:Durata corso: 12 ore \n8.00-12.00 \n13.00-17.00 \n8.00-12.00
URL:https://formazionesicurezzasullavoro.it/event/corso-di-formazione-teorico-pratico-per-lavoratori-addetti-alla-conduzione-di-gru-a-torre-con-rotazione-in-alto/
LOCATION:Roma\, Via Francesco Antolisei\, 6\, Roma\, 00173\, Italy
CATEGORIES:Addestramento,Formazione
END:VEVENT
BEGIN:VEVENT
DTSTART;TZID=UTC:20260210T080000
DTEND;TZID=UTC:20260212T120000
DTSTAMP:20260421T013448
CREATED:20251029T112201Z
LAST-MODIFIED:20260210T071502Z
UID:1457-1770710400-1770897600@formazionesicurezzasullavoro.it
SUMMARY:CORSO DI INFORMAZIONE\, FORMAZIONE E ADDESTRAMENTO PER ADDETTI AI LAVORI IN QUOTA E UTILIZZO DI DPI DI TERZA CATEGORIA
DESCRIPTION:Durata corso: 12 ore \n8.00-12.00 \n13.00-17.00 \n8.00-12.00
URL:https://formazionesicurezzasullavoro.it/event/corso-di-informazione-formazione-e-addestramento-per-addetti-ai-lavori-in-quota-e-utilizzo-di-dpi-di-terza-categoria/
LOCATION:Roma\, Via Francesco Antolisei\, 6\, Roma\, 00173\, Italy
CATEGORIES:Addestramento,Formazione
END:VEVENT
END:VCALENDAR