BEGIN:VCALENDAR
VERSION:2.0
PRODID:-//Formazione Sicurezza sul Lavoro - ECPv6.15.20//NONSGML v1.0//EN
CALSCALE:GREGORIAN
METHOD:PUBLISH
X-ORIGINAL-URL:https://formazionesicurezzasullavoro.it
X-WR-CALDESC:Eventi per Formazione Sicurezza sul Lavoro
REFRESH-INTERVAL;VALUE=DURATION:PT1H
X-Robots-Tag:noindex
X-PUBLISHED-TTL:PT1H
BEGIN:VTIMEZONE
TZID:UTC
BEGIN:STANDARD
TZOFFSETFROM:+0000
TZOFFSETTO:+0000
TZNAME:UTC
DTSTART:20250101T000000
END:STANDARD
END:VTIMEZONE
BEGIN:VEVENT
DTSTART;TZID=UTC:20260414T080000
DTEND;TZID=UTC:20260414T150000
DTSTAMP:20260420T234147
CREATED:20251001T083822Z
LAST-MODIFIED:20260410T060807Z
UID:1405-1776153600-1776178800@formazionesicurezzasullavoro.it
SUMMARY:Aggiornamento Corso di formazione per addetto al primo soccorso (Gruppo A)
DESCRIPTION:Durata corso: 6 ore \n9.00-13.00 \n14.00-16.00
URL:https://formazionesicurezzasullavoro.it/event/aggiornamento-corso-di-formazione-per-addetto-al-primo-soccorso-gruppo-a/
LOCATION:Roma\, Via Francesco Antolisei\, 6\, Roma\, 00173\, Italy
CATEGORIES:Addestramento,Formazione,Soccorso
END:VEVENT
BEGIN:VEVENT
DTSTART;TZID=UTC:20260414T080000
DTEND;TZID=UTC:20260417T160000
DTSTAMP:20260420T234147
CREATED:20250908T210830Z
LAST-MODIFIED:20260410T060940Z
UID:1287-1776153600-1776441600@formazionesicurezzasullavoro.it
SUMMARY:CORSO DI FORMAZIONE TEORICO E PRATICO PER LAVORATORI E PREPOSTI ADDETTI AL MONTAGGIO\, SMONTAGGIO. TRASFORMAZIONE DI PONTEGGI
DESCRIPTION:Durata corso: 28 ore \n8.00-12.00 \n13.00-16.00
URL:https://formazionesicurezzasullavoro.it/event/corso-ponteggi/
LOCATION:Roma\, Via Francesco Antolisei\, 6\, Roma\, 00173\, Italy
CATEGORIES:Addestramento,Formazione
END:VEVENT
BEGIN:VEVENT
DTSTART;TZID=UTC:20260415T130000
DTEND;TZID=UTC:20260416T170000
DTSTAMP:20260420T234147
CREATED:20260228T064315Z
LAST-MODIFIED:20260410T061116Z
UID:1535-1776258000-1776358800@formazionesicurezzasullavoro.it
SUMMARY:CORSO DI INFORMAZIONE\, FORMAZIONE E ADDESTRAMENTO PER ADDETTI AI LAVORI IN QUOTA E UTILIZZO DI DPI DI TERZA CATEGORIA
DESCRIPTION:Durata corso: 12 ore \n13.00-17.00 \n8.00-12.00 \n13.00-17.00
URL:https://formazionesicurezzasullavoro.it/event/corso-di-informazione-formazione-e-addestramento-per-addetti-ai-lavori-in-quota-e-utilizzo-di-dpi-di-terza-categoria-4/
LOCATION:Roma\, Via Francesco Antolisei\, 6\, Roma\, 00173\, Italy
CATEGORIES:Addestramento,Formazione
END:VEVENT
BEGIN:VEVENT
DTSTART;TZID=UTC:20260420T080000
DTEND;TZID=UTC:20260421T170000
DTSTAMP:20260420T234147
CREATED:20251001T084232Z
LAST-MODIFIED:20260410T061252Z
UID:1411-1776672000-1776790800@formazionesicurezzasullavoro.it
SUMMARY:Corso di formazione per addetti antincendio in attività di Liv 3 (rischio alto)
DESCRIPTION:Durata corso: 16 ore \n8.00-12.00 \n13.00-17.00
URL:https://formazionesicurezzasullavoro.it/event/corso-di-formazione-per-addetti-antincendio-in-attivita-di-liv-2-rischio-medio/
LOCATION:Roma\, Via Francesco Antolisei\, 6\, Roma\, 00173\, Italy
CATEGORIES:Addestramento,Antincendio,Formazione
END:VEVENT
BEGIN:VEVENT
DTSTART;TZID=UTC:20260422T080000
DTEND;TZID=UTC:20260423T170000
DTSTAMP:20260420T234147
CREATED:20260410T061518Z
LAST-MODIFIED:20260410T061518Z
UID:1570-1776844800-1776963600@formazionesicurezzasullavoro.it
SUMMARY:Corso di formazione e addestramento per Addetti al Montaggio dei Ponteggi Autosollevanti
DESCRIPTION:Durata corso: 16 ore \n8.00-12.00 \n13.00-17.00
URL:https://formazionesicurezzasullavoro.it/event/corso-di-formazione-e-addestramento-per-addetti-al-montaggio-dei-ponteggi-autosollevanti-4/
CATEGORIES:Addestramento,Formazione
END:VEVENT
BEGIN:VEVENT
DTSTART;TZID=UTC:20260427T080000
DTEND;TZID=UTC:20260428T120000
DTSTAMP:20260420T234147
CREATED:20260410T061927Z
LAST-MODIFIED:20260410T061927Z
UID:1572-1777276800-1777377600@formazionesicurezzasullavoro.it
SUMMARY:Corso di formazione TEORICO/PRATICO per Operatori Addetti alla conduzione di piattaforme di lavoro mobili elevabili (PLE) con stabilizzatori e senza stabilizzatori
DESCRIPTION:Durata corso: 12 ore \n8.00-12.00 \n13.00-17.00 \n8.00-12.00
URL:https://formazionesicurezzasullavoro.it/event/corso-di-formazione-teorico-pratico-per-operatori-addetti-alla-conduzione-di-piattaforme-di-lavoro-mobili-elevabili-ple-con-stabilizzatori-e-senza-stabilizzatori-3/
CATEGORIES:Addestramento,Formazione
END:VEVENT
BEGIN:VEVENT
DTSTART;TZID=UTC:20260428T080000
DTEND;TZID=UTC:20260429T120000
DTSTAMP:20260420T234147
CREATED:20260410T062413Z
LAST-MODIFIED:20260410T062413Z
UID:1574-1777363200-1777464000@formazionesicurezzasullavoro.it
SUMMARY:FORMAZIONE PER AMBIENTI CONFINATI
DESCRIPTION:Durata corso: 12 ore\n8.00-12.00\n13.00-17.00\n8.00-12.00
URL:https://formazionesicurezzasullavoro.it/event/formazione-per-ambienti-confinati/
LOCATION:Roma\, Via Francesco Antolisei\, 6\, Roma\, 00173\, Italy
CATEGORIES:Addestramento,Formazione
END:VEVENT
END:VCALENDAR